BEGIN:VCALENDAR
VERSION:2.0
PRODID:icalendar-ruby
CALSCALE:GREGORIAN
METHOD:PUBLISH
BEGIN:VEVENT
DTSTAMP:20260424T011406Z
UID:5-2410330@corpusunum.org
DTSTART:20260906T160000Z
DTEND:20260906T170000Z
CLASS:PUBLIC
CREATED:20260423T173833
DESCRIPTION:Sunday Worship
LAST-MODIFIED:20260423T173833
LOCATION:
SUMMARY:Sunday Worship
URL;VALUE=URI:https://www.corpusunum.com/events/sunday-worship/2026-09-06
END:VEVENT
END:VCALENDAR
