BEGIN:VCALENDAR
VERSION:2.0
PRODID:icalendar-ruby
CALSCALE:GREGORIAN
METHOD:PUBLISH
BEGIN:VEVENT
DTSTAMP:20260424T053312Z
UID:5-2411661@corpusunum.org
DTSTART:20260927T160000Z
DTEND:20260927T170000Z
CLASS:PUBLIC
CREATED:20260423T203146
DESCRIPTION:Sunday Worship
LAST-MODIFIED:20260423T203146
LOCATION:
SUMMARY:Sunday Worship
URL;VALUE=URI:https://www.corpusunum.com/events/sunday-worship/2026-09-27
END:VEVENT
END:VCALENDAR
