BEGIN:VCALENDAR
VERSION:2.0
PRODID:icalendar-ruby
CALSCALE:GREGORIAN
METHOD:PUBLISH
BEGIN:VEVENT
DTSTAMP:20260424T111306Z
UID:5-2412993@corpusunum.org
DTSTART:20261025T160000Z
DTEND:20261025T170000Z
CLASS:PUBLIC
CREATED:20260424T055934
DESCRIPTION:Sunday Worship
LAST-MODIFIED:20260424T055934
LOCATION:
SUMMARY:Sunday Worship
URL;VALUE=URI:https://www.corpusunum.com/events/sunday-worship/2026-10-25
END:VEVENT
END:VCALENDAR
